BEGIN:VCALENDAR
VERSION:2.0
PRODID:-//Kaliza - ECPv6.15.12.2//NONSGML v1.0//EN
CALSCALE:GREGORIAN
METHOD:PUBLISH
X-WR-CALNAME:Kaliza
X-ORIGINAL-URL:https://www.kaliza.es
X-WR-CALDESC:Eventos para Kaliza
REFRESH-INTERVAL;VALUE=DURATION:PT1H
X-Robots-Tag:noindex
X-PUBLISHED-TTL:PT1H
BEGIN:VTIMEZONE
TZID:Europe/Madrid
BEGIN:DAYLIGHT
TZOFFSETFROM:+0100
TZOFFSETTO:+0200
TZNAME:CEST
DTSTART:20250330T010000
END:DAYLIGHT
BEGIN:STANDARD
TZOFFSETFROM:+0200
TZOFFSETTO:+0100
TZNAME:CET
DTSTART:20251026T010000
END:STANDARD
BEGIN:DAYLIGHT
TZOFFSETFROM:+0100
TZOFFSETTO:+0200
TZNAME:CEST
DTSTART:20260329T010000
END:DAYLIGHT
BEGIN:STANDARD
TZOFFSETFROM:+0200
TZOFFSETTO:+0100
TZNAME:CET
DTSTART:20261025T010000
END:STANDARD
BEGIN:DAYLIGHT
TZOFFSETFROM:+0100
TZOFFSETTO:+0200
TZNAME:CEST
DTSTART:20270328T010000
END:DAYLIGHT
BEGIN:STANDARD
TZOFFSETFROM:+0200
TZOFFSETTO:+0100
TZNAME:CET
DTSTART:20271031T010000
END:STANDARD
END:VTIMEZONE
BEGIN:VEVENT
DTSTART;TZID=Europe/Madrid:20260810T090000
DTEND;TZID=Europe/Madrid:20260812T170000
DTSTAMP:20260424T234930
CREATED:20220530T234233Z
LAST-MODIFIED:20260121T144011Z
UID:10000059-1786352400-1786554000@www.kaliza.es
SUMMARY:Macizo Oriental con cimas - 3 etapas - Trekking
DESCRIPTION:
URL:https://www.kaliza.es/evento/macizo-oriental-con-cimas/
LOCATION:Jitu Escarandi\, Cantabria\, España
CATEGORIES:Macizo Central Trekking,Macizo Oriental con cimas,Trekking
ATTACH;FMTTYPE=image/png:https://www.kaliza.es/wp-content/uploads/2025/03/11-1-scaled.png
ORGANIZER;CN="Kaliza deporte y aventura":MAILTO:hola@kaliza.es
GEO:43.237111;-4.718865
END:VEVENT
BEGIN:VEVENT
DTSTART;TZID=Europe/Madrid:20260810T090000
DTEND;TZID=Europe/Madrid:20260813T150000
DTSTAMP:20260424T234930
CREATED:20260121T173256Z
LAST-MODIFIED:20260121T173256Z
UID:10000220-1786352400-1786633200@www.kaliza.es
SUMMARY:Anillo Vindio de Picos de Europa - 4 etapas - Trekking (10 al 13 agosto)
DESCRIPTION:
URL:https://www.kaliza.es/evento/anillo-vindio-de-picos-de-europa-4-etapas-trekking-10-al-13-agosto/
LOCATION:Posada de Valdeón\, Plaza de Posada de Valdeón\, Castilla y León\, España
CATEGORIES:4 ETAPAS Anillo Vindio TREKKING,Anillo 4 Trekking,Anillo de Picos,Anillo Vindio Trekking,Trekking,Trekking Anillo Vindio 2023
ATTACH;FMTTYPE=image/png:https://www.kaliza.es/wp-content/uploads/2025/03/14-2-scaled.png
ORGANIZER;CN="Kaliza deporte y aventura":MAILTO:hola@kaliza.es
GEO:43.1518364;-4.917893
X-APPLE-STRUCTURED-LOCATION;VALUE=URI;X-ADDRESS=Posada de Valdeón Plaza de Posada de Valdeón Castilla y León España;X-APPLE-RADIUS=500;X-TITLE=Plaza de Posada de Valdeón:geo:-4.917893,43.1518364
END:VEVENT
BEGIN:VEVENT
DTSTART;TZID=Europe/Madrid:20260811T080000
DTEND;TZID=Europe/Madrid:20260813T200000
DTSTAMP:20260424T234930
CREATED:20240215T150530Z
LAST-MODIFIED:20260309T160423Z
UID:10000019-1786435200-1786651200@www.kaliza.es
SUMMARY:Anillo Tres Macizos - 3 etapas - Trail Running
DESCRIPTION:El Anillo Tres Macizos es el recorrido circular que une todos los refugios de Picos de Europa.\n\nUn espectáculo astronómico único e irrepetible.\n\n\nEl 12 de agosto\, tendrás la oportunidad de vivir un eclipse total de sol mientras recorres los Picos de Europa. Imagina estar rodeado de montañas y naturaleza mientras el cielo se oscurece en un espectáculo astronómico único e irrepetible. \nUna aventura espectacular\, la aventura más exigente que ofrecemos guiada por Manu Merillas y solo apta para esas personas que buscan un reto de gran magnitud donde poder vivir al máximo la esencia de Picos. \n\nUn recorrido brutal donde subiremos y bajaremos interminables canales\, nos deleitaremos desde lo más alto con los mares de nubes que cubren los valles y disfrutaremos de una gran pasión como es el trail running en el mejor escenario posible\, los Picos de Europa. \nUna aventura exigente\, apta para esos corredores y corredoras de montaña que quieren vivir una de las experiencias catalogadas por los que ya lo han vivido como «la más intensa y reconfortante» que han podido hacer en sus vidas. \n¡Descúbrelo con nosotros!
URL:https://www.kaliza.es/evento/anillo-tres-macizos-3-etapas-trail-running-2/
LOCATION:Lagos de Covadonga\, Lagos de Covadonga\, Parking Buferrera\, Asturias\, España
CATEGORIES:Anillo 3 Trail Running,Anillo de Picos,Anillo Tres Macizos - 3 etapas - Trail Running,Trail running,Trail Running Anillo Picos 2023
ATTACH;FMTTYPE=image/png:https://www.kaliza.es/wp-content/uploads/2024/02/Copia-de-Miniaturas-Trail-running-y-Trekking-2-scaled.png
ORGANIZER;CN="Kaliza deporte y aventura":MAILTO:hola@kaliza.es
GEO:43.276077;-4.985993
X-APPLE-STRUCTURED-LOCATION;VALUE=URI;X-ADDRESS=Lagos de Covadonga Lagos de Covadonga Parking Buferrera Asturias España;X-APPLE-RADIUS=500;X-TITLE=Lagos de Covadonga:geo:-4.985993,43.276077
END:VEVENT
BEGIN:VEVENT
DTSTART;TZID=Europe/Madrid:20260814T080000
DTEND;TZID=Europe/Madrid:20260816T170000
DTSTAMP:20260424T234930
CREATED:20250318T114043Z
LAST-MODIFIED:20260127T161926Z
UID:10000143-1786694400-1786899600@www.kaliza.es
SUMMARY:El Cainejo - 3 etapas - Trail Running
DESCRIPTION:
URL:https://www.kaliza.es/evento/el-cainejo-trail-running/
LOCATION:Caín de Valdeón\, Caín\, cantabria\, España
CATEGORIES:Trail running,Trail Running El Cainejo 2023
ATTACH;FMTTYPE=image/png:https://www.kaliza.es/wp-content/uploads/2025/03/3-3-scaled.png
ORGANIZER;CN="Kaliza deporte y aventura":MAILTO:hola@kaliza.es
GEO:43.213276951844;-4.9053274856778
X-APPLE-STRUCTURED-LOCATION;VALUE=URI;X-ADDRESS=Caín de Valdeón Caín cantabria España;X-APPLE-RADIUS=500;X-TITLE=Caín:geo:-4.9053274856778,43.213276951844
END:VEVENT
BEGIN:VEVENT
DTSTART;TZID=Europe/Madrid:20260815T090000
DTEND;TZID=Europe/Madrid:20260816T140000
DTSTAMP:20260424T234930
CREATED:20260121T163212Z
LAST-MODIFIED:20260121T175126Z
UID:10000211-1786784400-1786888800@www.kaliza.es
SUMMARY:Collado Jermoso (15 y 16 agosto)
DESCRIPTION:
URL:https://www.kaliza.es/evento/collado-jermoso-15-y-16-agosto-2026/
LOCATION:Fuente dé\, Fuente dé\, Parking\, cantabria\, España
CATEGORIES:2 ETAPAS Collado Jermoso TREKKING,Jermoso Tour Trekking,Trekking,Trekking Collado Jermoso 2023
ATTACH;FMTTYPE=image/png:https://www.kaliza.es/wp-content/uploads/2026/01/7-1-scaled.png
ORGANIZER;CN="Kaliza deporte y aventura":MAILTO:traildyc@hotmail.com
GEO:43.1440363;-4.8121297
X-APPLE-STRUCTURED-LOCATION;VALUE=URI;X-ADDRESS=Fuente dé Fuente dé Parking cantabria España;X-APPLE-RADIUS=500;X-TITLE=Fuente dé:geo:-4.8121297,43.1440363
END:VEVENT
END:VCALENDAR