BEGIN:VCALENDAR
VERSION:2.0
PRODID:-//Kaliza - ECPv6.15.12.2//NONSGML v1.0//EN
CALSCALE:GREGORIAN
METHOD:PUBLISH
X-WR-CALNAME:Kaliza
X-ORIGINAL-URL:https://www.kaliza.es
X-WR-CALDESC:Eventos para Kaliza
REFRESH-INTERVAL;VALUE=DURATION:PT1H
X-Robots-Tag:noindex
X-PUBLISHED-TTL:PT1H
BEGIN:VTIMEZONE
TZID:Europe/Madrid
BEGIN:DAYLIGHT
TZOFFSETFROM:+0100
TZOFFSETTO:+0200
TZNAME:CEST
DTSTART:20230326T010000
END:DAYLIGHT
BEGIN:STANDARD
TZOFFSETFROM:+0200
TZOFFSETTO:+0100
TZNAME:CET
DTSTART:20231029T010000
END:STANDARD
BEGIN:DAYLIGHT
TZOFFSETFROM:+0100
TZOFFSETTO:+0200
TZNAME:CEST
DTSTART:20240331T010000
END:DAYLIGHT
BEGIN:STANDARD
TZOFFSETFROM:+0200
TZOFFSETTO:+0100
TZNAME:CET
DTSTART:20241027T010000
END:STANDARD
BEGIN:DAYLIGHT
TZOFFSETFROM:+0100
TZOFFSETTO:+0200
TZNAME:CEST
DTSTART:20250330T010000
END:DAYLIGHT
BEGIN:STANDARD
TZOFFSETFROM:+0200
TZOFFSETTO:+0100
TZNAME:CET
DTSTART:20251026T010000
END:STANDARD
END:VTIMEZONE
BEGIN:VEVENT
DTSTART;VALUE=DATE:20240608
DTEND;VALUE=DATE:20240609
DTSTAMP:20260423T223247
CREATED:20240504T102441Z
LAST-MODIFIED:20240923T111323Z
UID:10000088-1717804800-1717891199@www.kaliza.es
SUMMARY:Collado Jermoso / 8 de junio / Trail Running
DESCRIPTION:Sábado 8 de junio de 2024\n19 km / 1.800 m+\nExigencia: Física 3/5 – Técnica 2/4 Ver tablas de exigencia\n\n\n\n\n\n\nSalida: Fuente dé  9 AM\nDistancia: 19 km aprox.\nDesnivel positivo: 1.800 m aprox.\nDesnivel negativo: 1.800 m aprox.\nDuración estimada: 8 horas aprox. \n\n\n\n  \n\n\n\n\n\n\n\nSomos especialistas en rutas por los Picos de Europa con más de 50 grupos organizados. No te compliques y contrata una actividad segura con toda la logística incluida\,. La gestión del riesgo y esa ayuda y motivación en ciertos puntos donde podemos tener más dificultades también es reseñable para rutas de éstas características. \nLa interpretación del entorno y su historia es otro de los puntos fuertes cuando contratas una actividad con nosotros. \nNo solo contratas una ruta guiada\, contratas una experiencia con Kaliza deporte y aventura y todo lo que ello conlleva. \n\n\n\n\n\nTRAIL RUNNING COLLADO JERMOSO\nEsta salida de trail running a Collado Jermoso es una ruta que todo corredor de montaña debería de hacer alguna vez. \nUn recorrido espectacular por el macizo Central de los Picos de Europa. \nSaldremos del parking del teleférico de Fuente dé y ascenderemos por la canal del Embudo hasta la vega de Liordes\, lugar que ostenta ser el que ha registrado la temperatura mínima de nuestro país con – 35\,8 ºC. Un lugar impresionante rodeado de autenticas torres de roca caliza y crestas escarpadas. \nDaremos vista al refugio una vez superadas las Colladinas\, daremos buena cuenta de lo impresionante de este lugar porque como telón de fondo se erigen las cimas más altas del macizo Occidental y el precipicio justo a los pies del refugio\, por donde discurre la ruta de acceso desde Cordiñanes en el valle de Valdeón. Verdaderamente esta es de las vistas más espectaculares de todo el recorrido. \nUna vez lleguemos a Collado Jermoso\, podremos aprovechar para hidratarnos bien y comer un tentempié en este sitio tan majestuoso y coger fuerzas para volver hasta Fuente dé. \nLa ruta de regreso la haremos por el mismo lugar hasta la vega de Liordes nuevamente y en este punto desviarnos hacia la canal de Pedabejo\, por donde descenderemos hasta el camino que une Fuente dé con Posada de Valdeón. \nEsta última parte la haremos por una pista de 4×4 con terreno siempre favorable y un cómodo descenso por el hayedo de Quebres hasta donde hemos dejado nuestro coche unas horas antes. \n[su_image_carousel source=»media: 10817\,10816\,10820\,10821\,10824\,10822\,10828\,10831\,10833\,10829\,10826\,10830\,10823″ slides_style=»photo» controls_style=»light» crop=»none» columns=»4″ dots=»no» link=»custom» image_size=»full»] \nRequisitos mínimos\n\nEl nivel físico requerido es de 3/5 \n\n«Se ha de estar en buena forma física y estar habituado a correr por la montaña» \n\nEl nivel técnico de la ruta es de 2/4\n\n«Recorridos que discurren por terreno donde algunos tramos\, en su minoría\, son accidentados sin una senda bien definida. Donde no hará falta usar las manos en ningún punto para el progreso.» \nInformación a tener en cuenta:\n\nSi quieres disfrutar de precios reducidos adquiere los bonos de trekking y trail running de una jornada Enlace bonos\nDebemos estar informados de cualquier contraindicación\, enfermedad o lesión que hayas tenido previamente para adaptarnos o informarte en el caso de no ser recomendable para ti\, la salud es lo primero.\nEl guía de montaña tiene la titulación y conocimientos suficientes para garantizar la seguridad\, adecuar los tiempos\, paradas\, interpretación del entorno y hacer de la actividad lo más agradable posible.\nPor lo que es el guía el que tiene todo el derecho a decidir en función de diversos factores que él mismo valore sobre la modificación del recorrido a un posible plan B\, la seguridad e integridad de todos es lo primordial.\n\nQue se incluye:\n\nGuías de montaña titulado\nSeguro de responsabilidad civil y de accidentes.\nReportaje fotográfico.\nTodo asesoramiento previo a la actividad.\nImpuestos.\n\nQue no se incluye:\n\nEquipo y material técnico personal.\nTransporte hasta el punto de partida.
URL:https://www.kaliza.es/evento/collado-jermoso-8-de-junio-trail-running/
LOCATION:Fuente dé\, Fuente dé\, Taquillas del teleférico\, España
CATEGORIES:1 Jornada - Trail Running
ATTACH;FMTTYPE=image/png:https://www.kaliza.es/wp-content/uploads/2024/05/Sport-Pro-Facebook-Post-Post-de-Instagram-3.png
ORGANIZER;CN="Kaliza deporte y aventura":MAILTO:traildyc@hotmail.com
GEO:43.143683;-4.81203
X-APPLE-STRUCTURED-LOCATION;VALUE=URI;X-ADDRESS=Fuente dé Fuente dé Taquillas del teleférico España;X-APPLE-RADIUS=500;X-TITLE=Fuente dé:geo:-4.81203,43.143683
END:VEVENT
BEGIN:VEVENT
DTSTART;VALUE=DATE:20240609
DTEND;VALUE=DATE:20240610
DTSTAMP:20260423T223247
CREATED:20240504T153215Z
LAST-MODIFIED:20240923T111402Z
UID:10000089-1717891200-1717977599@www.kaliza.es
SUMMARY:Horcados Rojos / 9 de junio / Trail Running
DESCRIPTION:Domingo 9 de junio de 2024\n12 km / 900 m+\nExigencia: Física 2/5 – Técnica 2/4 Ver tablas de exigencia\n\n\n\n\n\n\nSalida: Fuente dé  9 AM\nDistancia: 12 km aprox.\nDesnivel positivo: 900 m aprox.\nDesnivel negativo: 900 m aprox.\nDuración estimada: 6 horas aprox. \n\n\n\n  \n\n\n\n\n\n\n\nSomos especialistas en rutas por los Picos de Europa con más de 50 grupos organizados. No te compliques y contrata una actividad segura con toda la logística incluida\,. La gestión del riesgo y esa ayuda y motivación en ciertos puntos donde podemos tener más dificultades también es reseñable para rutas de éstas características. \nLa interpretación del entorno y su historia es otro de los puntos fuertes cuando contratas una actividad con nosotros. \nNo solo contratas una ruta guiada\, contratas una experiencia con Kaliza deporte y aventura y todo lo que ello conlleva. \n\n\n\n\n\nTRAIL RUNNING HORCADOS ROJOS Y CABAÑA VERÓNICA\nEn esta ocasión el objetivo es hacer cima en Horcados Rojos\, una cima estratégicamente situada en pleno macizo Central donde divisamos los picos más emblemáticos de este macizo montañoso. \nPeña Vieja\, Urriellu\, Torrecerredo y Cabrones entre otros. \nUna cima muy asequible técnicamente en la que una senda fácil nos lleva hasta su cumbre a 2.503 m. \nEl recorrido que elegiremos será la ruta clásica que nos lleva desde el Cable\, la estación superior del teleférico a Cabaña Verónica y desviarnos en su último tramo para antes de la cima divisar el panorama de la costa asturiana y el picu Urriellu desde el collado de Horcados Rojos. \nAntes de volver para el teleférico pasaremos por el refugio vivac de Cabaña Verónica y los lagos de Lloroza ya en su parte final de la ruta. \n[su_image_carousel source=»media: 10817\,10816\,10820\,10821\,10824\,10822\,10828\,10831\,10833\,10829\,10826\,10830\,10823″ slides_style=»photo» controls_style=»light» crop=»none» columns=»4″ dots=»no» link=»custom» image_size=»full»] \nRequisitos mínimos\n\nEl nivel físico requerido es de 2/5 \n\n«Se ha de estar en buena forma física y estar habituado a correr por la montaña» \n\nEl nivel técnico de la ruta es de 2/4\n\n«Recorridos que discurren por terreno donde algunos tramos\, en su minoría\, son accidentados sin una senda bien definida. Donde no hará falta usar las manos en ningún punto para el progreso.» \nInformación a tener en cuenta:\n\nSi quieres disfrutar de precios reducidos adquiere los bonos de trekking y trail running de una jornada Enlace bonos\nDebemos estar informados de cualquier contraindicación\, enfermedad o lesión que hayas tenido previamente para adaptarnos o informarte en el caso de no ser recomendable para ti\, la salud es lo primero.\nEl guía de montaña tiene la titulación y conocimientos suficientes para garantizar la seguridad\, adecuar los tiempos\, paradas\, interpretación del entorno y hacer de la actividad lo más agradable posible.\nPor lo que es el guía el que tiene todo el derecho a decidir en función de diversos factores que él mismo valore sobre la modificación del recorrido a un posible plan B\, la seguridad e integridad de todos es lo primordial.\n\nQue se incluye:\n\nGuías de montaña titulado\nSeguro de responsabilidad civil y de accidentes.\nReportaje fotográfico.\nTodo asesoramiento previo a la actividad.\nImpuestos.\n\nQue no se incluye:\n\nPase del teleférico.\nEquipo y material técnico personal.\nTransporte hasta el punto de partida.
URL:https://www.kaliza.es/evento/horcados-rojos-9-de-junio-trail-running/
LOCATION:Fuente dé\, Fuente dé\, Taquillas del teleférico\, España
CATEGORIES:1 Jornada - Trail Running
ATTACH;FMTTYPE=image/png:https://www.kaliza.es/wp-content/uploads/2024/05/Sport-Pro-Facebook-Post-Post-de-Instagram-4.png
ORGANIZER;CN="Kaliza deporte y aventura":MAILTO:traildyc@hotmail.com
GEO:43.143683;-4.81203
X-APPLE-STRUCTURED-LOCATION;VALUE=URI;X-ADDRESS=Fuente dé Fuente dé Taquillas del teleférico España;X-APPLE-RADIUS=500;X-TITLE=Fuente dé:geo:-4.81203,43.143683
END:VEVENT
END:VCALENDAR