BEGIN:VCALENDAR
VERSION:2.0
PRODID:-//Kaliza - ECPv6.15.12.2//NONSGML v1.0//EN
CALSCALE:GREGORIAN
METHOD:PUBLISH
X-ORIGINAL-URL:https://www.kaliza.es
X-WR-CALDESC:Eventos para Kaliza
REFRESH-INTERVAL;VALUE=DURATION:PT1H
X-Robots-Tag:noindex
X-PUBLISHED-TTL:PT1H
BEGIN:VTIMEZONE
TZID:Europe/Madrid
BEGIN:DAYLIGHT
TZOFFSETFROM:+0100
TZOFFSETTO:+0200
TZNAME:CEST
DTSTART:20230326T010000
END:DAYLIGHT
BEGIN:STANDARD
TZOFFSETFROM:+0200
TZOFFSETTO:+0100
TZNAME:CET
DTSTART:20231029T010000
END:STANDARD
BEGIN:DAYLIGHT
TZOFFSETFROM:+0100
TZOFFSETTO:+0200
TZNAME:CEST
DTSTART:20240331T010000
END:DAYLIGHT
BEGIN:STANDARD
TZOFFSETFROM:+0200
TZOFFSETTO:+0100
TZNAME:CET
DTSTART:20241027T010000
END:STANDARD
BEGIN:DAYLIGHT
TZOFFSETFROM:+0100
TZOFFSETTO:+0200
TZNAME:CEST
DTSTART:20250330T010000
END:DAYLIGHT
BEGIN:STANDARD
TZOFFSETFROM:+0200
TZOFFSETTO:+0100
TZNAME:CET
DTSTART:20251026T010000
END:STANDARD
END:VTIMEZONE
BEGIN:VEVENT
DTSTART;TZID=Europe/Madrid:20240525T090000
DTEND;TZID=Europe/Madrid:20240526T140000
DTSTAMP:20260424T011334
CREATED:20240221T150446Z
LAST-MODIFIED:20240923T111247Z
UID:10000083-1716627600-1716732000@www.kaliza.es
SUMMARY:YogaTrekk Collado Jermoso / 25 y 26 de mayo de 2024
DESCRIPTION:Trekking de dos días y sesión de Yoga en el refugio de Collado Jermoso\n25 y 26 de mayo de 2024\nMedia pensión en el refugio incluido\n\n\n\n\nDía 25 de mayo – Fuente dé / Collado Jermoso\n\nSalida: Fuente dé (Cantabria) 9 AM\nDistancia: 9 km aprox.\nDesnivel positivo: 1.200 m aprox.\nDesnivel negativo: 300 m aprox.\nDuración estimada: 6 horas aprox \n\n\n\n  \n\nDía 18 de agosto – Collado Jermoso / Fuente dé\n\nSalida: Collado Jermoso 9 AM\nDistancia: 11 km aprox.\nDesnivel positivo: 470 m aprox.\nDesnivel negativo: 1.450 m aprox.\nDuración estimada: 5 horas\n \n\n\n\n\n\n\n\n\n\n  \nSomos especialistas en trekkings por los Picos de Europa con más de 50 grupos organizados. No te compliques y contrata una actividad segura con toda la logística incluida\,. La gestión del riesgo y esa ayuda y motivación en ciertos puntos donde podemos tener más dificultades también es reseñable para trekkings de éstas características. \nLa interpretación del entorno y su historia es otro de los puntos fuertes cuando contratas una actividad con nosotros. \nNo solo contratas una ruta guiada\, contratas una experiencia con Kaliza deporte y aventura y todo lo que ello conlleva. \n\n\n\n\n\nYogaTrekk Collado Jermoso \nDisfruta de una bonita experiencia que une el senderismo en los Picos de Europa\, la pernocta en uno de los mejores refugios y una clase de Yoga en un lugar mágico. \nEl trekking a Collado Jermoso es uno de los más bonitos de los Picos de Europa\, sus vistas y su majestuoso atardecer lo hacen imposible de olvidar. \nSaldremos de Fuente dé y ascenderemos por los tornos de Liordes para dar vista a la Vega del mismo nombre. La panorámica del macizo occidental y Peña Santa presidiéndolo según nos vamos acercando a Las Colladinas son impresionantes. \nEl atardecer desde Collado Jermoso es verdaderamente majestuoso y digno de conocer. De la misma manera que el ambiente en el refugio y por que no decir también que disponen del mejor cañero del planeta. \nEsa misma tarde en un lugar cercano al refugio con las mejores vistas\, Bea Valencia impartirá una clase de Yoga teniendo como fondo el lugar donde se podrá contemplar una de las mejores puestas de sol. \nEl segundo día volveremos sobre nuestros pasos hasta la Vega de Liordes\, donde nos desviaremos para descender por la canal de Pedabejo. \nAl poco de haber descendido ésta corta pero bonita canal enlazaremos ya con el camino que une Fuente dé con Posada de Valdeón; y en continuo descenso llegaremos en breve a Fuente dé. \nNota: Es posible realizar el trekking sin tener que obligatoriamente realizar la sesión de yoga\, en este caso el precio es de 150€. \n  \n\nBea Valencia \nRequisitos mínimos:\n\nPara poder realizar el trekking a Collado Jermoso es necesario tener una condición física aceptable.\nNos encontraremos dos etapas de no demasiados kilómetros pero sobre todo la primera con un fuerte desnivel de ascenso por los tornos de Liordes.\n\nInformación a tener en cuenta:\n\nEn el refugio disponen de zapatos de descanso tipo cross y solo es necesario llevar un saco sábana y taparnos con sus mantas o un saco fino para pasar la noche.\nPodemos encargar picnic para el segundo día y no tener que cargar con ese peso durante la primera etapa. Aún así la hora estimada de llegada al punto de inicio del trekking son las 14h.\nDebemos estar informados de cualquier contraindicación\, enfermedad o lesión que hayas tenido previamente para adaptarnos o informarte en el caso de no ser recomendable para ti\, la salud es lo primero.\nEl guía de montaña tiene la titulación y conocimientos suficientes para garantizar la seguridad\, adecuar los tiempos\, paradas\, interpretación del entorno y hacer de la actividad lo más agradable posible.\nPor lo que es el guía el que tiene todo el derecho a decidir en función de diversos factores que él mismo valore sobre la modificación del recorrido a un posible plan B\, la seguridad e integridad de todos es lo primordial.\nA la hora de preparar la mochila debemos ceñirnos a lo estrictamente necesario y en total de peso no debería superar los 6-8 kilos.\n\nQue se incluye:\n\nGuía de montaña titulado\nMonitora de Yoga\nSeguro de responsabilidad civil y de accidentes.\nAlojamiento en media pensión\nReportaje fotográfico.\nLogística de la actividad.\nTodo asesoramiento previo a la actividad.\nImpuestos\n\nQue no se incluye:\n\nEquipo y material técnico personal.\nComida para llevar (hay opción de encargar picnic para el día siguiente en el refugio)\nCualquier aspecto supletorio o adicional no incluido en el programa.\n\n\n\n\n\n\n\n\n\n\n\n\n\n \n\n\n\n\n\n\n\n\n\n 
URL:https://www.kaliza.es/evento/yogatrekk-collado-jermoso-25-y-26-de-mayo-de-2024/
LOCATION:Fuente dé\, Fuente dé\, Parking\, cantabria\, España
CATEGORIES:2 ETAPAS Collado Jermoso TREKKING,Jermoso Tour Trekking,Trekking,Trekking Collado Jermoso 2023
ATTACH;FMTTYPE=image/png:https://www.kaliza.es/wp-content/uploads/2024/02/Yoga.png
ORGANIZER;CN="Kaliza deporte y aventura":MAILTO:traildyc@hotmail.com
GEO:43.1440363;-4.8121297
X-APPLE-STRUCTURED-LOCATION;VALUE=URI;X-ADDRESS=Fuente dé Fuente dé Parking cantabria España;X-APPLE-RADIUS=500;X-TITLE=Fuente dé:geo:-4.8121297,43.1440363
END:VEVENT
END:VCALENDAR