BEGIN:VCALENDAR
VERSION:2.0
PRODID:-//Kaliza - ECPv6.15.12.2//NONSGML v1.0//EN
CALSCALE:GREGORIAN
METHOD:PUBLISH
X-WR-CALNAME:Kaliza
X-ORIGINAL-URL:https://www.kaliza.es
X-WR-CALDESC:Eventos para Kaliza
REFRESH-INTERVAL;VALUE=DURATION:PT1H
X-Robots-Tag:noindex
X-PUBLISHED-TTL:PT1H
BEGIN:VTIMEZONE
TZID:Europe/Madrid
BEGIN:DAYLIGHT
TZOFFSETFROM:+0100
TZOFFSETTO:+0200
TZNAME:CEST
DTSTART:20230326T010000
END:DAYLIGHT
BEGIN:STANDARD
TZOFFSETFROM:+0200
TZOFFSETTO:+0100
TZNAME:CET
DTSTART:20231029T010000
END:STANDARD
BEGIN:DAYLIGHT
TZOFFSETFROM:+0100
TZOFFSETTO:+0200
TZNAME:CEST
DTSTART:20240331T010000
END:DAYLIGHT
BEGIN:STANDARD
TZOFFSETFROM:+0200
TZOFFSETTO:+0100
TZNAME:CET
DTSTART:20241027T010000
END:STANDARD
BEGIN:DAYLIGHT
TZOFFSETFROM:+0100
TZOFFSETTO:+0200
TZNAME:CEST
DTSTART:20250330T010000
END:DAYLIGHT
BEGIN:STANDARD
TZOFFSETFROM:+0200
TZOFFSETTO:+0100
TZNAME:CET
DTSTART:20251026T010000
END:STANDARD
END:VTIMEZONE
BEGIN:VEVENT
DTSTART;VALUE=DATE:20240518
DTEND;VALUE=DATE:20240519
DTSTAMP:20260424T011206
CREATED:20240507T205045Z
LAST-MODIFIED:20240923T111440Z
UID:10000090-1715990400-1716076799@www.kaliza.es
SUMMARY:Traveserina / 18 de mayo / Trail Running
DESCRIPTION:Sábado 18 de mayo de 2024\n23 km / 1.900 m+\nExigencia: Física 3/5 – Técnica 2/4 Ver tablas de exigencia\n\n\n\n\n\n\nSalida: Sotres 9 AM\nDistancia: 23 km aprox.\nDesnivel positivo: 1.900 m aprox.\nDesnivel negativo: 1.900 m aprox.\nDuración estimada: 8 horas aprox. \n\n\n\n  \n\n\n\n\n\n\n\nSomos especialistas en rutas por los Picos de Europa con más de 50 grupos organizados. No te compliques y contrata una actividad segura con toda la logística incluida\,. La gestión del riesgo y esa ayuda y motivación en ciertos puntos donde podemos tener más dificultades también es reseñable para rutas de éstas características. \nLa interpretación del entorno y su historia es otro de los puntos fuertes cuando contratas una actividad con nosotros. \nNo solo contratas una ruta guiada\, contratas una experiencia con Kaliza deporte y aventura y todo lo que ello conlleva. \n\n\n\n\n\nReconocimiento primera parte de la Traveserina\nHaremos un reconocimiento de la primera parte de la Traveserina. \nIniciaremos la ruta en Sotres\, dirección Pandébano por la pista de acceso. Esta primera parte muy corredera y cómoda para ir entrando en calor y prepararnos para lo que nos viene. \nUna vez superado el collado de Pandébano comenzamos el descenso por la senda a Bulnes\, siempre con el Urriellu expectante y las cimas más altas del macizo central que se van abriendo camino a nuestra vista. \nUna vez llegamos a Bulnes comenzamos la subida por la canal de Balcosín en primer lugar y de Cambureru después. Subida dura y constante que nos regalará impresionantes vistas según vamos ascendiendo y el Urriellu cada vez se va haciendo más grande. \nUna vez llegamos a la base del Urriellu\, llegamos también al refugio donde podremos tomarnos algo y coger fuerzas para la última parte. \nComenzamos el descenso hacia la Terenosa y regresamos a Sotres de nuevo después de pasar por Pandébano. \nUn reconocimiento para esas personas que estáis inscritos a la Traveserina y no conocéis el recorrido. También para gente que quiera disfrutar de una salida grupal de trail running por el paraiso e los Picos de Europa. \n[su_image_carousel source=»media: 10817\,10816\,10820\,10821\,10824\,10822\,10828\,10831\,10833\,10829\,10826\,10830\,10823″ slides_style=»photo» controls_style=»light» crop=»none» columns=»4″ dots=»no» link=»custom» image_size=»full»] \nRequisitos mínimos:\n\nEl nivel físico requerido es de 3/5 \n\n«Se ha de estar en buena forma física y habituado a correr por montaña. Recomendamos un entrenamiento previo con una media de distancia y desnivel semanal de 40-50 km y 1.500 m+ (mínimo el mes previo)» \n\nEl nivel técnico de la ruta es de 2/4\n\n«Recorridos que discurren por terreno donde algunos tramos son accidentados\, sin una senda bien definida. Donde no hará falta usar las manos en ningún punto para el progreso.» \nInformación a tener en cuenta:\n\nSi quieres disfrutar de precios reducidos adquiere los bonos de trekking y trail running de una jornada Enlace bonos\nDebemos estar informados de cualquier contraindicación\, enfermedad o lesión que hayas tenido previamente para adaptarnos o informarte en el caso de no ser recomendable para ti\, la salud es lo primero.\nEl guía de montaña tiene la titulación y conocimientos suficientes para garantizar la seguridad\, adecuar los tiempos\, paradas\, interpretación del entorno y hacer de la actividad lo más agradable posible.\nPor lo que es el guía el que tiene todo el derecho a decidir en función de diversos factores que él mismo valore sobre la modificación del recorrido a un posible plan B\, la seguridad e integridad de todos es lo primordial.\n\nQue se incluye:\n\nGuías de montaña titulado\nSeguro de responsabilidad civil y de accidentes.\nReportaje fotográfico.\nTodo asesoramiento previo a la actividad.\nImpuestos.\n\nQue no se incluye:\n\nEquipo y material técnico personal.\nTransporte hasta el punto de partida.
URL:https://www.kaliza.es/evento/traveserina-18-de-mayo-trail-running/
LOCATION:Sotres\, Asturias\, España
CATEGORIES:1 Jornada - Trail Running
ATTACH;FMTTYPE=image/png:https://www.kaliza.es/wp-content/uploads/2024/05/Sport-Pro-Facebook-Post-Post-de-Instagram-5.png
ORGANIZER;CN="Kaliza deporte y aventura":MAILTO:traildyc@hotmail.com
GEO:43.232581;-4.746893
END:VEVENT
END:VCALENDAR