BEGIN:VCALENDAR
VERSION:2.0
PRODID:-//Kaliza - ECPv6.15.12.2//NONSGML v1.0//EN
CALSCALE:GREGORIAN
METHOD:PUBLISH
X-WR-CALNAME:Kaliza
X-ORIGINAL-URL:https://www.kaliza.es
X-WR-CALDESC:Eventos para Kaliza
REFRESH-INTERVAL;VALUE=DURATION:PT1H
X-Robots-Tag:noindex
X-PUBLISHED-TTL:PT1H
BEGIN:VTIMEZONE
TZID:Europe/Madrid
BEGIN:DAYLIGHT
TZOFFSETFROM:+0100
TZOFFSETTO:+0200
TZNAME:CEST
DTSTART:20220327T010000
END:DAYLIGHT
BEGIN:STANDARD
TZOFFSETFROM:+0200
TZOFFSETTO:+0100
TZNAME:CET
DTSTART:20221030T010000
END:STANDARD
BEGIN:DAYLIGHT
TZOFFSETFROM:+0100
TZOFFSETTO:+0200
TZNAME:CEST
DTSTART:20230326T010000
END:DAYLIGHT
BEGIN:STANDARD
TZOFFSETFROM:+0200
TZOFFSETTO:+0100
TZNAME:CET
DTSTART:20231029T010000
END:STANDARD
BEGIN:DAYLIGHT
TZOFFSETFROM:+0100
TZOFFSETTO:+0200
TZNAME:CEST
DTSTART:20240331T010000
END:DAYLIGHT
BEGIN:STANDARD
TZOFFSETFROM:+0200
TZOFFSETTO:+0100
TZNAME:CET
DTSTART:20241027T010000
END:STANDARD
END:VTIMEZONE
BEGIN:VEVENT
DTSTART;TZID=Europe/Madrid:20230713T090000
DTEND;TZID=Europe/Madrid:20230716T170000
DTSTAMP:20260425T153148
CREATED:20230505T150917Z
LAST-MODIFIED:20240215T162831Z
UID:10000072-1689238800-1689526800@www.kaliza.es
SUMMARY:Anillo Vindio\, Picos de Europa en 4 etapas / 13 al 16 de julio 2023
DESCRIPTION:Etapa 1 Posada de Valdeón / Refugio Vega de Ario\n\nSalida: Posada de Valdeón 9:00 AM\nDistancia: 15 km aprox.\nDesnivel positivo: 1.600 m aprox.\nDesnivel negativo: 600 m aprox.\nDuración estimada: 8 horas aprox. \n\nEn la primera de las etapas quedaremos en la plaza de Posada de Valdeón a las 8:30 de la mañana para terminar de preparar las cosas y poder salir a las 9 después de hacer una pequeña presentación. \nIniciaremos la marcha en dirección al pueblo de Cordiñanes y paralelos al río Cares\, divisor natural del macizo central y occidental\, llegamos al pintoresco pueblo de Caín\, que además ostenta el título de ser el de menor altitud de toda Castilla y León. \nDejamos Caín atrás y nos adentramos en la garganta del Cares y a los pocos kilómetros comienza la canal de Trea. \nUna temida canal por su elevado desnivel en tan breve distancia. \nEl ritmo será conservador y poder subir admirando tanta belleza hará que casi sin darnos cuenta nos encontremos coronándola. \nA poca distancia  ya podremos divisar el refugio de Vega de Ario (1.630 m) donde pasaremos la primera noche. \n\n\n  \n\nEtapa 2 Vega de Ario / Vegaredonda\n\nSalida: Vega de Ario9:00 AM\nDistancia: 15 km aprox.\nDesnivel positivo: 700 m aprox.\nDesnivel negativo: 850 m aprox.\nDuración estimada: 7 horas aprox.\n \nLa segunda etapa la iniciamos en dirección a los Lagos de Covadonga por un bonito sendero de pastores. \nPor el camino Brañas en las que aún viven los últimos pastores de los Picos de Europa. \nLlegamos a los Lagos de Covadonga y de ahí primero por una pista que pronto derivará en una senda y en constante ascenso llegaremos al segundo refugio donde pasaremos la noche\, el refugio de Vegaredonda situado a 1.460 metros. \n\n\n  \n\nEtapa 3 Vegaredonda / Vegabaño\n\nSalida: Vegaredonda 9:00 AM\nDistancia: 15 km aprox.\nDesnivel positivo: 1.260 m aprox.\nDesnivel negativo: 1.400 m aprox.\nDuración estimada: 8 horas aprox.\n \nLa tercera etapa nos lleva a la parte más elevada y agreste de todo el tekking. \nSe divide en tres partes\, una de ascenso constante hasta llegar a los 2.100 m donde ya el verde solo se presenta de fondo en los valles asturianos que dejamos atrás. \nUn constante sube y baja a esa altura media superior a los 2.000 m rodeados de roca caliza y un paisaje lunar cruzando jous\, collados \, simas\, alguna que otra trepadita fácil con buenos agarres\, en fin\, donde se respira el espíritu conmovedor de los Picos de Europa. \nY por último la tercera parte\, volvemos a descender al valle\, ya en la comunidad de Castilla y León\, y adentrarnos en un precioso hayedo que nos conduce al refugio de Vegabaño\, donde pasaremos nuestra última noche. \n\n\n  \n\nEtapa 4 Vegabaño/ Posada de Valdeón\n\nSalida: Vegabaño 9:00 AM\nDistancia: 11 km aprox.\nDesnivel positivo: 400 m aprox.\nDesnivel negativo: 850 m aprox.\nDuración estimada: 5 horas aprox. \n \nÚltima etapa que nos lleva de regreso al punto de partida en Posada de Valdeón. \nUna pequeña subida por el hayedo que rodea al refugio nos conduce a los puertos de Dobres a los pies del pico Jario. \nTras cruzar los puertos comenzamos un descenso por otro hayedo ya en la vertiente del valle de Valdeón que nos conduce hasta su núcleo más importante\, Posada de Valdeón donde damos por finalizada ésta aventura. \n\n\n\n\n\n\nDel 13 al 16 de julio –  53 kms / 3.900 m+ aprox.\nUne los refugios del macizo occidental\n3 noches en media pensión incluido\n\n\n\n\n\n\n[siteorigin_widget class=»WP_Widget_Custom_HTML»][/siteorigin_widget]\n[siteorigin_widget class=»Su_Widget»]
URL:https://www.kaliza.es/evento/anillo-vindio-picos-de-europa-en-4-etapas-13-al-16-de-julio-2023/
LOCATION:Posada de Valdeón\, Plaza de Posada de Valdeón\, Castilla y León\, España
CATEGORIES:Anillo 4 Trekking,Anillo de Picos,Trekking
ATTACH;FMTTYPE=image/png:https://www.kaliza.es/wp-content/uploads/2023/05/Anillo-Vindio.png
ORGANIZER;CN="Kaliza deporte y aventura":MAILTO:hola@kaliza.es
GEO:43.1518364;-4.917893
X-APPLE-STRUCTURED-LOCATION;VALUE=URI;X-ADDRESS=Posada de Valdeón Plaza de Posada de Valdeón Castilla y León España;X-APPLE-RADIUS=500;X-TITLE=Plaza de Posada de Valdeón:geo:-4.917893,43.1518364
END:VEVENT
BEGIN:VEVENT
DTSTART;TZID=Europe/Madrid:20230716T080000
DTEND;TZID=Europe/Madrid:20230718T170000
DTSTAMP:20260425T153148
CREATED:20230627T091019Z
LAST-MODIFIED:20240215T162256Z
UID:10000010-1689494400-1689699600@www.kaliza.es
SUMMARY:Anillo Extrem en 3 etapas trail running / 16 al 18 de julio 2023
DESCRIPTION:16 al 18 de julio de 2023.\nMedia pensión incluida en ref. Cabrones y ref. Vegaredonda\nTrail running nivel medio/alto\n\n\n\n\nPrimera etapa día 16 de julio \nQuedaremos en Posada de Valdeón 8:00 AM para iniciar la ruta por la ascensión de argayo Congosto al refugio de Collado Jermoso. \nDe ahí continuamos camino de las Colladinas y Tiro Casares\, punto más elevado del recorrido. \nDe Tiro Casares ya divisamos el refugio de Cabaña Verónica por donde pasaremos poco después y antes de llegara al collado de Horcados Rojos donde tenemos unas impresionantes vistas del Picu Urriellu y del mar Cantábrico. \nDescendemos al jou de Los Boches y continuamos camino hasta el refugio de Urriellu. \nPoco después solo nos queda ascender por la Brecha de los Cazadores\, la Corona el Rasu y Horcada Arenera para llegar al refugio del Jou de los Cabrones donde pasaremos la noche y podremos también contemplar su preciosa puesta de sol desde el Collado del Agua antes de irnos a dormir. \nDistancia: 20 km \nDesnivel positivo: 2.700 m \nDesnivel negativo: 1.600 m \nTiempo estimado: 9-10 h \n  \nSegunda etapa día 17 de julio \nDespués del desayuno en el refugio cogemos rumbo hacia las praderas de Amuesa para encontrar la bajada de la canal de Piedra Bellida. Espectacular canal que tras un largo descenso llegamos al puente La Vieya donde nos podremos dar un baño y coger fuerzas para afrontar la subida de la canal de Trea que nos conduce al refugio de Vega de Ario. \nDel refugio vega de Ario tomamos rumbo a los lagos de Covadonga por un sendero corrible y muy cómodo en constante descenso. \nYa solo nos queda ascender hasta el refugio de Vegarredonda donde pasaremos ésta segunda noche. \nDistancia: 27 km \nDesnivel positivo: 2.500 m \nDesnivel negativo: 3.000 m \nTiempo estimado: 9-10 h \n  \nTercera etapa día 18 de julio \nSalimos de Vegarredonda dirección al Collado las Merines y Fuente Prieta. \nUna cómoda y bonita subida que nos da paso de nuevo al mar de roca caliza y los jous interminables que nos conducen al pequeño refugio de Vega Huerta. \nTomamos el camino del burro hasta el collado también del burro y bajamos por la canal del perro hasta adentrarnos en el hayedo de Cuesta Fría que nos conduce al refugio de Vegabaño. \nDe ahí ya solo nos queda una cómoda ascensión a los puertos de Dobres y dejarnos caer por otro bonito hayedo hasta el lugar donde hemos comenzado la ruta dos días antes\, Posada de Valdeón. \nDistancia: 25 km \nDesnivel positivo: 1.600 m \nDesnivel negativo: 2.100 m \nTiempo estimado: 8-9 h \n  \n  \n\n\n\n\n\n\n[siteorigin_widget class=»WP_Widget_Media_Gallery»][/siteorigin_widget]\n\n\n\n \n 
URL:https://www.kaliza.es/evento/anillo-extrem-en-3-etapas-trail-running-16-al-18-de-julio-2023/
LOCATION:Posada de Valdeón\, Plaza de Posada de Valdeón\, Castilla y León\, España
CATEGORIES:Trail running
ATTACH;FMTTYPE=image/png:https://www.kaliza.es/wp-content/uploads/2023/06/Anillo-Extrem-3-etapas-julio.png
ORGANIZER;CN="Kaliza deporte y aventura":MAILTO:traildyc@hotmail.com
GEO:43.1518364;-4.917893
X-APPLE-STRUCTURED-LOCATION;VALUE=URI;X-ADDRESS=Posada de Valdeón Plaza de Posada de Valdeón Castilla y León España;X-APPLE-RADIUS=500;X-TITLE=Plaza de Posada de Valdeón:geo:-4.917893,43.1518364
END:VEVENT
END:VCALENDAR