BEGIN:VCALENDAR
VERSION:2.0
PRODID:-//Kaliza - ECPv6.15.12.2//NONSGML v1.0//EN
CALSCALE:GREGORIAN
METHOD:PUBLISH
X-ORIGINAL-URL:https://www.kaliza.es
X-WR-CALDESC:Eventos para Kaliza
REFRESH-INTERVAL;VALUE=DURATION:PT1H
X-Robots-Tag:noindex
X-PUBLISHED-TTL:PT1H
BEGIN:VTIMEZONE
TZID:Europe/Madrid
BEGIN:DAYLIGHT
TZOFFSETFROM:+0100
TZOFFSETTO:+0200
TZNAME:CEST
DTSTART:20210328T010000
END:DAYLIGHT
BEGIN:STANDARD
TZOFFSETFROM:+0200
TZOFFSETTO:+0100
TZNAME:CET
DTSTART:20211031T010000
END:STANDARD
BEGIN:DAYLIGHT
TZOFFSETFROM:+0100
TZOFFSETTO:+0200
TZNAME:CEST
DTSTART:20220327T010000
END:DAYLIGHT
BEGIN:STANDARD
TZOFFSETFROM:+0200
TZOFFSETTO:+0100
TZNAME:CET
DTSTART:20221030T010000
END:STANDARD
BEGIN:DAYLIGHT
TZOFFSETFROM:+0100
TZOFFSETTO:+0200
TZNAME:CEST
DTSTART:20230326T010000
END:DAYLIGHT
BEGIN:STANDARD
TZOFFSETFROM:+0200
TZOFFSETTO:+0100
TZNAME:CET
DTSTART:20231029T010000
END:STANDARD
END:VTIMEZONE
BEGIN:VEVENT
DTSTART;TZID=Europe/Madrid:20220731T090000
DTEND;TZID=Europe/Madrid:20220801T170000
DTSTAMP:20260424T235647
CREATED:20220517T211724Z
LAST-MODIFIED:20220717T144354Z
UID:10000057-1659258000-1659373200@www.kaliza.es
SUMMARY:Jermoso Trekking Tour\, Nivel avanzado / 31 de julio y 1 de agosto
DESCRIPTION:31 de julio y 1 de agosto\, Trekking Collado Jermoso (nivel avanzado)\n\n\n\n\nDía 31 de julio – Fuente dé / Collado Jermoso\n\nSalida: Fuente dé 9 AM\nDistancia: 9 km aprox.\nDesnivel positivo: 1.200 m aprox.\nDesnivel negativo: 300 m aprox.\nDuración estimada: 6 horas aprox \n\n\n\n \n\nDía 1 de agosto – Collado Jermoso / El Cable (por Tiro Callejo)\n\nDistancia: 8\,5 km aprox.\nDesnivel positivo: 800 m aprox.\nDesnivel negativo: 1.000 m aprox.\nDuración estimada: 7 horas aprox. \n\n\n\n\n\n\n\n[siteorigin_widget class=»WP_Widget_Custom_HTML»][/siteorigin_widget]\n\n\n\n\nJermoso Trekking Tour (nivel medio)\nEl trekking a Collado Jermoso es uno de los más bonitos de los Picos de Europa\, sus vistas y su majestuoso atardecer lo hacen imposible de olvidar. \nEn el Jermoso Trekking Tour de nivel avanzado saldremos de Fuente dé y ascenderemos por los tornos de Liordes para dar vista a la Vega del mismo nombre. La panorámica del macizo occidental y Peña Santa presidiéndolo según nos vamos acercando a Las Colladinas son impresionantes. \nEl atardecer desde Collado Jermoso es verdaderamente majestuoso y digno de conocer. De la misma manera que el ambiente en el refugio y por que no decir también que disponen del mejor cañero del planeta ? \nEl segundo día el regreso lo haremos por Tiro Callejo\, un paso en el que tendremos que subir ayudados de una cuerda que hay asegurada en la roca para poder llegar al collado y dar vista al Jou Trasllambrión. En éste punto tendremos la vista más espectacular del trekking en el que llegaremos a ver el Picu Urriellu o Naranjo de Bulnes y el mar Cantábrico. \nDesde Tiro Callejo ya descenderemos para dar vista a uno de los neveros glaciares de Picos\, el del Jou Trasllambrión. \nPasaremos por Collada Ancha para llegara al refugio de Cabaña Verónica y de ahí por la ruta normal de acceso\, bajaremos hasta El Cable teniendo la opción de bajar a Fuente dé en el teleférico o bien caminando por la canal del Hachero. \nRequisitos mínimos\n\nPara poder realizar el Jermoso Trekking Tour de nivel avanzado es necesario estar habituado a caminar por montaña o hacer alguna actividad deportiva.\nTambién es necesario tener un nivel técnico alto ya que hay un paso de trepada por una cuerda.\nNos encontraremos dos etapas de no demasiados kilómetros pero con fuertes desniveles y un terreno especialmente técnico.\nEs necesario mínimo un mes antes encaminar los entrenamientos a la actividad en cuestión. Por lo que si se tienen dudas\, lo mejor es ponerse en contacto con nosotros a través de nuestro formulario y estaremos encantados de orientarte para que lo logres.\n\nInformación a tener en cuenta:\n\nEn el refugio disponen de zapatos de descanso tipo cross y solo es necesario llevar un saco sábana y taparnos con sus mantas o un saco fino para pasar la noche.\nPodemos encargar picnic para el segundo día y no tener que cargar con ese peso durante la primera etapa.\nDebemos estar informados de cualquier contraindicación\, enfermedad o lesión que hayas tenido previamente para adaptarnos o informarte en el caso de no ser recomendable para ti\, la salud es lo primero.\nEl guía de montaña tiene la titulación y conocimientos suficientes para garantizar la seguridad\, adecuar los tiempos\, paradas\, interpretación del entorno y hacer de la actividad lo más agradable posible.\nPor lo que es el guía el que tiene todo el derecho a decidir en función de diversos factores que él mismo valore sobre la modificación del recorrido a un posible plan B\, la seguridad e integridad de todos es lo primordial.\nA la hora de preparar la mochila debemos ceñirnos a lo estrictamente necesario y en total de peso no debería superar los 6-8 kilos.\n\nQue se incluye:\n\nGuías de montaña titulado\nSeguro de responsabilidad civil y de accidentes.\nAlojamiento en media pensión\nReportaje fotográfico.\nLogística de la actividad.\nTodo asesoramiento previo a la actividad.\nImpuestos\n\nQue no se incluye:\n\nEquipo y material técnico personal.\nComida para llevar (hay opción de encargar picnic para el día siguiente en el refugio)\nCualquier aspecto supletorio o adicional no incluido en el programa.\n\n\n\n\n\n\n\n\n\n\n\nGuías del Evento:\n\n\n\nIván Cuesta\n\n\n\n\n\n \n\n\n\n[siteorigin_widget class=»Su_Widget»][/siteorigin_widget]\n\n\n\n\n[siteorigin_widget class=»Su_Widget»][/siteorigin_widget]\n\n\n[siteorigin_widget class=»Su_Widget»][/siteorigin_widget]
URL:https://www.kaliza.es/evento/jermoso-trekking-tour-nivel-avanzado/
LOCATION:Fuente dé\, Fuente dé\, Parking\, cantabria\, España
CATEGORIES:Jermoso Tour Trekking,Trekking
ATTACH;FMTTYPE=image/png:https://www.kaliza.es/wp-content/uploads/2022/05/Jermoso-trekking-tour-nivel-avanzado.png
ORGANIZER;CN="Kaliza deporte y aventura":MAILTO:traildyc@hotmail.com
GEO:43.1440363;-4.8121297
X-APPLE-STRUCTURED-LOCATION;VALUE=URI;X-ADDRESS=Fuente dé Fuente dé Parking cantabria España;X-APPLE-RADIUS=500;X-TITLE=Fuente dé:geo:-4.8121297,43.1440363
END:VEVENT
BEGIN:VEVENT
DTSTART;TZID=Europe/Madrid:20220806T090000
DTEND;TZID=Europe/Madrid:20220813T190000
DTSTAMP:20260424T235647
CREATED:20220607T215511Z
LAST-MODIFIED:20220706T052102Z
UID:10000060-1659776400-1660417200@www.kaliza.es
SUMMARY:Anillo Picos de Europa en 8 etapas / 6 al 13 de agosto
DESCRIPTION:Del 6 al 13 de agosto 130 kms / 9.000 m+ aprox.\n7 noches en media pensión incluido\n\n\n\n  \n\nEtapa 1 Sotres / Sotres\n\nSalida: Sotres 9:00 AM\nDistancia: 15 km aprox.\nDesnivel positivo: 1.300 m aprox.\nDesnivel negativo: 1.300 m aprox.\nDuración estimada: 9 horas aprox. \n\nComenzamos el Anillo de los tres macizos en el bonito pueblo asturiano de Sotres donde tras una pequeña presentación comenzaremos la ruta del día en dirección a las Vegas del Toro donde se inicia la ascensión a la canal de Jidiellu que tras coronal a través del collado Valdominguero y atravesar la zona minera de Ándara llegaremos al primer refugio de montaña\, y el único en éste macizo de los Picos de Europa\, el oriental o de Ándara\, el casetón de Ándara a 1.725 msnm. \nDesde ahí seguiremos descendiendo para seguido del collado Fuente Soles llegar de nuevo a Sotres donde pasaremos la primera de las noches. \n\n\n \n\nEtapa 2 Sotres / Cabrones\n\nSalida: Sotres 9:00 AM\nDistancia: 14 km aprox.\nDesnivel positivo: 1.650 m aprox.\nDesnivel negativo: 650 m aprox.\nDuración estimada: 9 horas aprox. \n \nEl segundo día de éste impresionante trekking lo hacemos en dirección al macizo central o de los Urrieles y en primer lugar llegar al refugio de la Terenosa\, el de menor altitud del anillo y situado a 1.300 msnm. \nSeguido ascendemos hasta la base del Naranjo de Bulnes o Picu Urriellu donde se encuentra el refugio Vega de Urriellu situado a 1.960 msnm. \nPoco después emprendemos nuestro camino al refugio del Jou de los Cabrones tras atravesar la Brecha de los Cazadores y Horcada Arenera. \nEn el refugio de Jou de los Cabrones\, el más inaccesible de España situado a 2.034 msnm. pasaremos la segunda noche de nuestro trekking. \n\n\n \n\nEtapa 3 Cabrones / Poncebos\n\nSalida: Cabrones 9:00 AM\nDistancia: 9 km aprox.\nDesnivel positivo: 290m aprox.\nDesnivel negativo: 2.090 m aprox.\nDuración estimada: 5 horas aprox. \n \nTercer día de caminata en el Anillo de Picos\, etapa corta en distancia (9kms) pero exigente debido a su gran desnivel negativo (2.090 m-) \nMuy cerca del refugio del Jou de los Cabrones cruzamos por las traviesas del Trave a los pies de los cuetos del mismo nombre\, damos vista a las campas de Amuesa\, donde comienza la canal por la que bajamos hasta el pintoresco pueblo de Bulnes. \nDe Bulnes y en constante descenso por la canal del Tejo llegamos al puente de la Jaya y seguido ya en Poncebos. \n\n\n \n\nEtapa 4 Poncebos / Vega de Ario\n\nSalida: Poncebos 9 AM\nDistancia: 12 km aprox.\nDesnivel positivo: 1.500 m aprox.\nDesnivel negativo: 150 m aprox.\nDuración estimada: 8 horas aprox. \n \nLa cuarta etapa del Anillo nos lleva hasta macizo Occidental o Cornión. \nSalimos de Poncebos\, lugar donde comienza la famosa ruta del Cares por la que discurren los 8 primeros kilómetros de la etapa hasta llegar al Puente Bolín donde se encuentra el inicio de la canal de trea\, una dura y exigente canal que nos obliga a salvar un desnivel de 1.100 m+ en tan solo 3 kilómetros. \nUna vez coronamos la canal de Trea\, tomarnos un merecido descanso y poder deleitarnos con sus impresionantes vistas del macizo central\, nos dirigimos al final de la etapa\, el refugio Vega de Ario por una zona de terreno descompuesto con pequeños cambios de desnivel. \n\n\n \n\nEtapa 5 Vega de Ario / Vegarredonda\n\nSalida: Vega de Ario 9:00 AM\nDistancia: 15 km aprox.\nDesnivel positivo: 670 m aprox.\nDesnivel negativo: 840 m aprox.\nDuración estimada: 6 horas aprox. \n  \n \nEn la cuarta etapa del anillo vamos en dirección a los Lagos de Covadonga por una senda muy cómoda y en ligero descenso. \nTras dejar los lagos en nuestro lado derecho de la marcha llegamos a la pista que da acceso al parking de Pandelcarmen donde comienza de nuevo la senda que nos que lleva hasta el refugio de Vegarredonda donde pasaremos la noche\, situado a 1.470 msnm. \n\n\n \n\nEtapa 6 Vegarredonda / Vegabaño\n\nSalida: Vegarredonda 9:00 AM\nDistancia: 15 km aprox.\nDesnivel positivo: 1.250 m aprox.\nDesnivel negativo: 1.400 m aprox.\nDuración estimada: 9 horas aprox. \n  \n \nDejamos atrás el refugio donde hemos pasado la noche y nos dirigimos a cruzar el macizo occidental por Fuente Prieta y el refugio de Vega Huerta\, que es un pequeño refugio a los pies de Peña Santa de Castilla que no está guardado. \nDe ahí vamos dejando a nuestro margen izquierdo todo el paredón del macizo central y llegamos al collado del Burro y la canal del Perro\, donde comenzamos el descenso por terreno rocoso y de gravera en un primer momento y posteriormente atravesamos un formidable hayedo hasta el refugio de Vegabaño a 1.432 msnm. donde pasaremos la noche. \n\n\n \n\nEtapa 7 Vegabaño / Collado Jermoso\n\nSalida: Vegabaño 9:00 AM\nDistancia: 17\,5 km aprox.\nDesnivel positivo: 1.450 m aprox.\nDesnivel negativo: 750 m aprox.\nDuración estimada: 10 horas aprox. \n \nLa sexta etapa tiene cómo destino el refugio (bajo nuestro punto de vista) más espectacular que integran el Anillo de Picos\, Collado Jermoso a 2.064 msnm. \nSalimos de Begabaño por senda entre hayas que nos lleva a los puertos de Dobres  y dar vista al valle de Valdeón donde seguido del pueblo de Cordiñanes comienza la subida al refugio por la Vega de Asotín y Collado Solano. \nLlegamos al refugio\, de nuevo en el macizo central\, donde pasaremos la noche y desde donde si tenemos suerte y las condiciones son las adecuadas podremos deleitarnos con un de los atardeceres más espectaculares que recordaremos. \n\n\n \n\nEtapa 8 Collado Jermoso / Sotres\n\nSalida: Collado Jermoso 9:00 AM\nDistancia: 20 km aprox.\nDesnivel positivo: 850 m aprox.\nDesnivel negativo: 1.850 m aprox.\nDuración estimada: 9 horas aprox. \n \nLa última etapa de nuestro trekking del anillo nos orienta en busca del refugio más alto de todos\, el de Cabaña Verónica a 2.325 msnm. \nA él accedemos atravesando las Colladinas y Tiro Casares. \nDesde ahí descenderemos hasta los puertos de Áliva que por un camino muy cómodo llegaremos a las Vegas del Toro y al pueblo de Sotres donde daremos por finalizado éste espectacular trekking de 7 etapas que pasa por todos los macizos y cada uno de sus refugios de montaña. \n\n\n  \n\n\n\n\n\n\n\nRequisitos mínimos\n\nPara poder realizar el Anillo de Picos de los tres macizos es necesario tener una buena forma física y estar habituado a caminar por montaña con mochila de unos 6-8 kilos.\nSon etapas comprendidas entre 9 y 20 kms con fuertes desniveles de hasta 1.650 m+  en terreno técnico por lo que debemos ser conscientes de que nuestra preparación no vaya solo encaminada a una de las etapas\, sino a enlazarlas todas.\nEs necesario mínimo un mes antes encaminar los entrenamientos a la actividad en cuestión. Por lo que si se tienen dudas\, lo mejor es ponerse en contacto con nosotros a través de nuestro formulario y estaremos encantados de orientarte para que lo logres.\n\nInformación a tener en cuenta:\n\nDebemos estar informados de cualquier contraindicación\, enfermedad o lesión que hayas tenido previamente para adaptarnos o informarte en el caso de no ser recomendable para ti\, la salud es lo primero.\nEl guía de montaña tiene la titulación y conocimientos suficientes para garantizar la seguridad\, adecuar los tiempos\, paradas\, interpretación del entorno y hacer de la actividad lo más agradable posible.\nPor lo que es el guía el que tiene todo el derecho a decidir en función de diversos factores que él mismo valore sobre la modificación del recorrido a un posible plan B\, la seguridad e integridad de todos es lo primordial.\nA la hora de preparar la mochila debemos ceñirnos a lo estrictamente necesario y en total de peso no debería superar los 6-8 kilos.\n\nQue se incluye:\n\nGuía de montaña titulado\n7 noches en régimen de media pensión ( hay opción de encargar picnic para llevar al día siguiente)\nSeguro de responsabilidad civil y de accidentes.\nCamiseta conmemorativa\nReportaje fotográfico\nLogística de la actividad\nTodo asesoramiento previo a la actividad\n\nQue no se incluye:\n\nComida para llevar (hay opción de encargarlo para el día siguiente en el refugio donde pasemos la noche)\nEquipo y material técnico personal.\nCualquier aspecto supletorio o adicional no incluido en el programa.\n\nOtras cuestiones a tener en cuenta:\n\nSi la actividad no pudiera llevarse a cabo\, bien por alertas meteorológicas\, o cualquier otro contratiempo se intentará acordar otro día para realizarla.\nSi no hubiese acuerdo y habría que suspender la actividad\, Kaliza Deporte y Aventura SL abonaría el importe de la misma descontando un 10% en concepto de gastos de gestión.\nPor cualquier motivo relacionado con la pandemia\, Kaliza Deporte y Aventura SL devolvería integro el dinero a los participantes de la actividad.\n\n\n\n\n\n\n[siteorigin_widget class=»WP_Widget_Custom_HTML»][/siteorigin_widget]\n\n\n\n\n\n\n\n\n \n\n\n\n\n\n\n[siteorigin_widget class=»Su_Widget»][/siteorigin_widget]\n\n\n[siteorigin_widget class=»Su_Widget»][/siteorigin_widget]\n[siteorigin_widget class=»Su_Widget»][/siteorigin_widget]
URL:https://www.kaliza.es/evento/anillo-picos-de-europa-en-8-etapas-6-al-13-de-agoto/
LOCATION:Sotres\, Asturias\, España
CATEGORIES:Anillo 8 Trekking,Anillo de Picos,Trekking
ATTACH;FMTTYPE=image/png:https://www.kaliza.es/wp-content/uploads/2022/06/Anillo-picos-8-etapas-agosto-reducida.png
ORGANIZER;CN="Kaliza deporte y aventura":MAILTO:hola@kaliza.es
GEO:43.232581;-4.746893
END:VEVENT
END:VCALENDAR