BEGIN:VCALENDAR
VERSION:2.0
PRODID:-//Kaliza - ECPv6.15.12.2//NONSGML v1.0//EN
CALSCALE:GREGORIAN
METHOD:PUBLISH
X-WR-CALNAME:Kaliza
X-ORIGINAL-URL:https://www.kaliza.es
X-WR-CALDESC:Eventos para Kaliza
REFRESH-INTERVAL;VALUE=DURATION:PT1H
X-Robots-Tag:noindex
X-PUBLISHED-TTL:PT1H
BEGIN:VTIMEZONE
TZID:Europe/Madrid
BEGIN:DAYLIGHT
TZOFFSETFROM:+0100
TZOFFSETTO:+0200
TZNAME:CEST
DTSTART:20250330T010000
END:DAYLIGHT
BEGIN:STANDARD
TZOFFSETFROM:+0200
TZOFFSETTO:+0100
TZNAME:CET
DTSTART:20251026T010000
END:STANDARD
BEGIN:DAYLIGHT
TZOFFSETFROM:+0100
TZOFFSETTO:+0200
TZNAME:CEST
DTSTART:20260329T010000
END:DAYLIGHT
BEGIN:STANDARD
TZOFFSETFROM:+0200
TZOFFSETTO:+0100
TZNAME:CET
DTSTART:20261025T010000
END:STANDARD
BEGIN:DAYLIGHT
TZOFFSETFROM:+0100
TZOFFSETTO:+0200
TZNAME:CEST
DTSTART:20270328T010000
END:DAYLIGHT
BEGIN:STANDARD
TZOFFSETFROM:+0200
TZOFFSETTO:+0100
TZNAME:CET
DTSTART:20271031T010000
END:STANDARD
END:VTIMEZONE
BEGIN:VEVENT
DTSTART;TZID=Europe/Madrid:20260801T090000
DTEND;TZID=Europe/Madrid:20260805T170000
DTSTAMP:20260424T203805
CREATED:20250313T092011Z
LAST-MODIFIED:20260121T151647Z
UID:10000116-1785574800-1785949200@www.kaliza.es
SUMMARY:La Travesera - 5 etapas - Trekking
DESCRIPTION:
URL:https://www.kaliza.es/evento/la-travesera-5-etapas-trekking/
LOCATION:El Repelao\, Covadonga\, El Repelao\, Covadonga\, Asturias\, España
CATEGORIES:La Travesera,Trekking
ATTACH;FMTTYPE=image/png:https://www.kaliza.es/wp-content/uploads/2025/03/15-1-scaled.png
ORGANIZER;CN="Kaliza deporte y aventura":MAILTO:hola@kaliza.es
GEO:43.312473;-5.059749
X-APPLE-STRUCTURED-LOCATION;VALUE=URI;X-ADDRESS=El Repelao Covadonga El Repelao Covadonga Asturias España;X-APPLE-RADIUS=500;X-TITLE=El Repelao\, Covadonga:geo:-5.059749,43.312473
END:VEVENT
BEGIN:VEVENT
DTSTART;TZID=Europe/Madrid:20260803T080000
DTEND;TZID=Europe/Madrid:20260808T170000
DTSTAMP:20260424T203805
CREATED:20260121T175625Z
LAST-MODIFIED:20260121T175625Z
UID:10000223-1785744000-1786208400@www.kaliza.es
SUMMARY:Anillo Extrem Picos de Europa - 6 etapas- Trekking (3 al 8 agosto)
DESCRIPTION:
URL:https://www.kaliza.es/evento/anillo-extrem-picos-de-europa-6-etapas-trekking-3-al-8-agosto/
LOCATION:Poncebos\, Poncebos\, España
CATEGORIES:6 ETAPAS Anillo Extrem TREKKING,Anillo de Picos,Trekking,Trekking Anillo Extrem 2023
ATTACH;FMTTYPE=image/png:https://www.kaliza.es/wp-content/uploads/2025/03/17-1-scaled.png
ORGANIZER;CN="Kaliza deporte y aventura":MAILTO:hola@kaliza.es
END:VEVENT
END:VCALENDAR