BEGIN:VCALENDAR
VERSION:2.0
PRODID:-//Kaliza - ECPv6.15.12.2//NONSGML v1.0//EN
CALSCALE:GREGORIAN
METHOD:PUBLISH
X-ORIGINAL-URL:https://www.kaliza.es
X-WR-CALDESC:Eventos para Kaliza
REFRESH-INTERVAL;VALUE=DURATION:PT1H
X-Robots-Tag:noindex
X-PUBLISHED-TTL:PT1H
BEGIN:VTIMEZONE
TZID:Europe/Madrid
BEGIN:DAYLIGHT
TZOFFSETFROM:+0100
TZOFFSETTO:+0200
TZNAME:CEST
DTSTART:20250330T010000
END:DAYLIGHT
BEGIN:STANDARD
TZOFFSETFROM:+0200
TZOFFSETTO:+0100
TZNAME:CET
DTSTART:20251026T010000
END:STANDARD
BEGIN:DAYLIGHT
TZOFFSETFROM:+0100
TZOFFSETTO:+0200
TZNAME:CEST
DTSTART:20260329T010000
END:DAYLIGHT
BEGIN:STANDARD
TZOFFSETFROM:+0200
TZOFFSETTO:+0100
TZNAME:CET
DTSTART:20261025T010000
END:STANDARD
BEGIN:DAYLIGHT
TZOFFSETFROM:+0100
TZOFFSETTO:+0200
TZNAME:CEST
DTSTART:20270328T010000
END:DAYLIGHT
BEGIN:STANDARD
TZOFFSETFROM:+0200
TZOFFSETTO:+0100
TZNAME:CET
DTSTART:20271031T010000
END:STANDARD
END:VTIMEZONE
BEGIN:VEVENT
DTSTART;TZID=Europe/Madrid:20260706T080000
DTEND;TZID=Europe/Madrid:20260711T170000
DTSTAMP:20260424T190725
CREATED:20250314T125254Z
LAST-MODIFIED:20260121T152209Z
UID:10000190-1783324800-1783789200@www.kaliza.es
SUMMARY:Anillo Extrem Picos de Europa - 6 etapas- Trekking
DESCRIPTION:
URL:https://www.kaliza.es/evento/anillo-extrem-picos-de-europa-6-etapas-trekking/
LOCATION:Poncebos\, Poncebos\, España
CATEGORIES:6 ETAPAS Anillo Extrem TREKKING,Anillo de Picos,Trekking,Trekking Anillo Extrem 2023
ATTACH;FMTTYPE=image/png:https://www.kaliza.es/wp-content/uploads/2025/03/17-1-scaled.png
ORGANIZER;CN="Kaliza deporte y aventura":MAILTO:hola@kaliza.es
END:VEVENT
END:VCALENDAR